BEGIN:VCALENDAR
VERSION:2.0
PRODID:-//SportAbility - ECPv6.15.15//NONSGML v1.0//EN
CALSCALE:GREGORIAN
METHOD:PUBLISH
X-ORIGINAL-URL:https://sportabilitybc.ca
X-WR-CALDESC:Events for SportAbility
REFRESH-INTERVAL;VALUE=DURATION:PT1H
X-Robots-Tag:noindex
X-PUBLISHED-TTL:PT1H
BEGIN:VTIMEZONE
TZID:America/Vancouver
BEGIN:DAYLIGHT
TZOFFSETFROM:-0800
TZOFFSETTO:-0700
TZNAME:PDT
DTSTART:20240310T100000
END:DAYLIGHT
BEGIN:STANDARD
TZOFFSETFROM:-0700
TZOFFSETTO:-0800
TZNAME:PST
DTSTART:20241103T090000
END:STANDARD
BEGIN:DAYLIGHT
TZOFFSETFROM:-0800
TZOFFSETTO:-0700
TZNAME:PDT
DTSTART:20250309T100000
END:DAYLIGHT
BEGIN:STANDARD
TZOFFSETFROM:-0700
TZOFFSETTO:-0800
TZNAME:PST
DTSTART:20251102T090000
END:STANDARD
BEGIN:DAYLIGHT
TZOFFSETFROM:-0800
TZOFFSETTO:-0700
TZNAME:PDT
DTSTART:20260308T100000
END:DAYLIGHT
BEGIN:STANDARD
TZOFFSETFROM:-0700
TZOFFSETTO:-0800
TZNAME:PST
DTSTART:20261101T090000
END:STANDARD
END:VTIMEZONE
BEGIN:VEVENT
DTSTART;VALUE=DATE:20250814
DTEND;VALUE=DATE:20250815
DTSTAMP:20260423T032029
CREATED:20250613T161214Z
LAST-MODIFIED:20250613T161214Z
UID:8490-1755129600-1755215999@sportabilitybc.ca
SUMMARY:Frame Running & Boccia Try It
DESCRIPTION:As part of this year’s Junior Wheelchair Sport Camp in partnership with BC Wheelchair Sports\, we are offering an opportunity for you to come out and try either frame running\, Boccia\, or both! \nThe frame running session will be held in the morning and the Boccia session will be held in the afternoon. There will be lunch provided to individuals participating in both sessions. Feel free to come out to one or both of the sport sessions! \nRegister Here:https://docs.google.com/forms/d/e/1FAIpQLSdUkBbSa8YBTxAHUah0K5AhuDokW4Nbry0NtENhNnQPnvRhrg/viewform \nFrame running is a sport designed for people with balance and mobility impairments\, often due to conditions like cerebral palsy\, muscular dystrophy or other neuromuscular conditions. It involves the use of a specialized three-wheeled frame\, called a running frame\, which supports the athlete while allowing them to propel themselves forward using their feet.
URL:https://sportabilitybc.ca/event/frame-running-boccia-try-it/
LOCATION:Pacific Christian Academy\, 10238 168 St\, Surrey\, BC\, V4N 1Z4
CATEGORIES:Boccia,Community Event,Frame Running
ATTACH;FMTTYPE=image/jpeg:https://sportabilitybc.ca/wp-content/uploads/2025/06/1718817682.jpg
END:VEVENT
BEGIN:VEVENT
DTSTART;VALUE=DATE:20250816
DTEND;VALUE=DATE:20250818
DTSTAMP:20260423T032029
CREATED:20250626T175058Z
LAST-MODIFIED:20250626T175058Z
UID:8513-1755302400-1755475199@sportabilitybc.ca
SUMMARY:Boccia High Performance Training Camp
DESCRIPTION:Open to Provincial Team players. Please contact for more details about the Boccia provincial pathway.
URL:https://sportabilitybc.ca/event/boccia-high-performance-training-camp/
LOCATION:PISE\, 4371 Interurban Rd\, Victoria\, BC\, V9E 2C5\, Canada
CATEGORIES:Boccia
ATTACH;FMTTYPE=image/jpeg:https://sportabilitybc.ca/wp-content/uploads/2022/11/052822_BocciaRefCamp-287-scaled.jpg
END:VEVENT
BEGIN:VEVENT
DTSTART;VALUE=DATE:20250823
DTEND;VALUE=DATE:20250824
DTSTAMP:20260423T032029
CREATED:20250626T175334Z
LAST-MODIFIED:20250626T175334Z
UID:8515-1755907200-1755993599@sportabilitybc.ca
SUMMARY:SCI BC Boccia Try It
DESCRIPTION:Come out and join us for a fun and inclusive Boccia Try It held in partnership with SCI BC. Fantastic opportunity to learn a new sport\, meet some new people and enjoy the beautiful summer weather.
URL:https://sportabilitybc.ca/event/sci-bc-boccia-try-it/
LOCATION:BC
CATEGORIES:Boccia,Community Event
END:VEVENT
END:VCALENDAR