BEGIN:VCALENDAR
VERSION:2.0
PRODID:-//SportAbility - ECPv6.15.15//NONSGML v1.0//EN
CALSCALE:GREGORIAN
METHOD:PUBLISH
X-ORIGINAL-URL:https://sportabilitybc.ca
X-WR-CALDESC:Events for SportAbility
REFRESH-INTERVAL;VALUE=DURATION:PT1H
X-Robots-Tag:noindex
X-PUBLISHED-TTL:PT1H
BEGIN:VTIMEZONE
TZID:America/Vancouver
BEGIN:DAYLIGHT
TZOFFSETFROM:-0800
TZOFFSETTO:-0700
TZNAME:PDT
DTSTART:20240310T100000
END:DAYLIGHT
BEGIN:STANDARD
TZOFFSETFROM:-0700
TZOFFSETTO:-0800
TZNAME:PST
DTSTART:20241103T090000
END:STANDARD
BEGIN:DAYLIGHT
TZOFFSETFROM:-0800
TZOFFSETTO:-0700
TZNAME:PDT
DTSTART:20250309T100000
END:DAYLIGHT
BEGIN:STANDARD
TZOFFSETFROM:-0700
TZOFFSETTO:-0800
TZNAME:PST
DTSTART:20251102T090000
END:STANDARD
BEGIN:DAYLIGHT
TZOFFSETFROM:-0800
TZOFFSETTO:-0700
TZNAME:PDT
DTSTART:20260308T100000
END:DAYLIGHT
BEGIN:STANDARD
TZOFFSETFROM:-0700
TZOFFSETTO:-0800
TZNAME:PST
DTSTART:20261101T090000
END:STANDARD
END:VTIMEZONE
BEGIN:VEVENT
DTSTART;TZID=America/Vancouver:20250930T143000
DTEND;TZID=America/Vancouver:20250930T173000
DTSTAMP:20260421T030253
CREATED:20250916T201928Z
LAST-MODIFIED:20250916T201928Z
UID:8601-1759242600-1759253400@sportabilitybc.ca
SUMMARY:Learn to Coach Boccia
DESCRIPTION:Join us for a Boccia Learn to Coach course September 30th and October 2nd\, 2025. This course will be facilitated through Boccia Canada\, and will be conducted online through video call. Coaches are essential for the development and performance of boccia athletes. They are responsible for teaching boccia skills and rules\, while providing a safe\, fun\, and inclusive environment for their athletes. Come out and attend the course to learn more about how to coach Boccia and work hands on supporting Boccia athletes in BC. \nRegister here: https://forms.gle/NX5LE8JKUmRe4z2Q9
URL:https://sportabilitybc.ca/event/learn-to-coach-boccia/
LOCATION:Online
CATEGORIES:Boccia
END:VEVENT
END:VCALENDAR