BEGIN:VCALENDAR
VERSION:2.0
PRODID:-//SportAbility - ECPv6.15.15//NONSGML v1.0//EN
CALSCALE:GREGORIAN
METHOD:PUBLISH
X-WR-CALNAME:SportAbility
X-ORIGINAL-URL:https://sportabilitybc.ca
X-WR-CALDESC:Events for SportAbility
REFRESH-INTERVAL;VALUE=DURATION:PT1H
X-Robots-Tag:noindex
X-PUBLISHED-TTL:PT1H
BEGIN:VTIMEZONE
TZID:America/Vancouver
BEGIN:DAYLIGHT
TZOFFSETFROM:-0800
TZOFFSETTO:-0700
TZNAME:PDT
DTSTART:20240310T100000
END:DAYLIGHT
BEGIN:STANDARD
TZOFFSETFROM:-0700
TZOFFSETTO:-0800
TZNAME:PST
DTSTART:20241103T090000
END:STANDARD
BEGIN:DAYLIGHT
TZOFFSETFROM:-0800
TZOFFSETTO:-0700
TZNAME:PDT
DTSTART:20250309T100000
END:DAYLIGHT
BEGIN:STANDARD
TZOFFSETFROM:-0700
TZOFFSETTO:-0800
TZNAME:PST
DTSTART:20251102T090000
END:STANDARD
BEGIN:DAYLIGHT
TZOFFSETFROM:-0800
TZOFFSETTO:-0700
TZNAME:PDT
DTSTART:20260308T100000
END:DAYLIGHT
BEGIN:STANDARD
TZOFFSETFROM:-0700
TZOFFSETTO:-0800
TZNAME:PST
DTSTART:20261101T090000
END:STANDARD
END:VTIMEZONE
BEGIN:VEVENT
DTSTART;VALUE=DATE:20251018
DTEND;VALUE=DATE:20251020
DTSTAMP:20260419T143955
CREATED:20251003T201858Z
LAST-MODIFIED:20251003T201858Z
UID:8617-1760745600-1760918399@sportabilitybc.ca
SUMMARY:High Performance Boccia Training Camp
DESCRIPTION:Training camp for Team BC athletes in preparation for Canadian Championships in Ottawa in November. Open to athletes by invitation only.
URL:https://sportabilitybc.ca/event/high-performance-boccia-training-camp/
LOCATION:Delta Secondary School\, 4615 51 St\, Delta\, BC\, V4K 2V8\, Canada
CATEGORIES:Boccia
ATTACH;FMTTYPE=image/jpeg:https://sportabilitybc.ca/wp-content/uploads/2025/01/466668490_954564040039075_588869406944307946_n.jpg
END:VEVENT
END:VCALENDAR